BEGIN:VCALENDAR
VERSION:2.0
PRODID:-//Eventin//Event Calendar//EN
CALSCALE:GREGORIAN
METHOD:PUBLISH
BEGIN:VEVENT
UID:50cf4dc2cf56b8ae458493cc86ca73b4@www.victorychurchnola.com
SUMMARY:Victory Young Adults Summer Retreat
DESCRIPTION:June 18–20 | Gulf Shores\, Alabama\n\n\n\nGet ready for an un
 forgettable few days with the Victory Young Adults community at the beach! 
 This summer retreat is the perfect opportunity to step away from the routin
 e\, grow in your faith\, build meaningful friendships\, and enjoy plenty of
  beachside fun.\n\n\n\nCost: $225\n\n\n\n\n\n\n\nYour registration includes
  food\, lodging\, and plenty of beach fun throughout the retreat.\n\n\n\n
 Don’t miss this chance to relax\, connect\, and make lasting memories in
  Gulf Shores. \n\n\n\n\nRegister
LOCATION:Victory Church
DTSTAMP:20260422T121017Z
DTSTART:20260618T110000Z
DTEND:20260620T120000Z
END:VEVENT
END:VCALENDAR