BEGIN:VCALENDAR
VERSION:2.0
PRODID:-//Eventin//Event Calendar//EN
CALSCALE:GREGORIAN
METHOD:PUBLISH
BEGIN:VEVENT
UID:f52e7082eaf4daefba95daaff8b6caf7@www.victorychurchnola.com
SUMMARY:BTG Film Day
DESCRIPTION:Friday\, May 29 at 8 AM\nExtras Needed! We’re looking for ext
 ras for BTG Filming on Friday\, May 29 at 8 AM! Come be part of the action 
 and help bring this project to life. We need youth\, young adults and adult
 s.\nPlease bring:\n\nA polo shirt\nKhaki pants\nA change of clothes\n\nLunc
 h will be provided.
LOCATION:Victory Church
DTSTAMP:20260424T184129Z
DTSTART:20260529T130000Z
DTEND:20260529T140000Z
END:VEVENT
END:VCALENDAR
