BEGIN:VCALENDAR
VERSION:2.0
PRODID:-//Eventin//Event Calendar//EN
CALSCALE:GREGORIAN
METHOD:PUBLISH
BEGIN:VEVENT
UID:602b654dcefd38a84801c09583bcd0c0@www.victorychurchnola.com
SUMMARY:Victory Kids Summer Retreat | CALLED KIDS!
DESCRIPTION:Get ready for an unforgettable summer adventure at Victory Kids
  Summer Retreat: CALLED KIDS! This exciting overnight retreat is designed j
 ust for kids ages 7–11 and will be packed with fun\, friendship\, and pow
 erful moments in God’s presence.\n\n\n\nWe’ll be carpooling from Victor
 y Church to Camp Living Waters on June 5 at 10:00 AM and returning to Victo
 ry on June 6 at 5:00 PM.\n\n\n\nCost: $125 per child\n\n\n\nYour child’s 
 retreat experience includes:\n\n\n\n\nMeals\n\n\n\nLodging\n\n\n\nDynamic W
 orship Services\n\n\n\nSwimming\n\n\n\nWater Slide\n\n\n\nTribe Games\n\n\n
 \nNight Games\n\n\n\nTons of Fun & Lasting Memories\n\n\n\n\nThis is more t
 han just a getaway—it’s a chance for kids to grow in faith\, build frie
 ndships\, and discover that they are called by God for a purpose.\n\n\n\nSp
 ots are limited!For questions or more information\, please contact Pastor K
 athryn.\n\n\n\n\nRegister
LOCATION:Victory Church
DTSTAMP:20260422T090615Z
DTSTART:20260605T050000Z
DTEND:20260606T050000Z
END:VEVENT
END:VCALENDAR
